BEGIN:VCALENDAR
VERSION:2.0
CALSCALE:GREGORIAN
PRODID:adamgibbons/ics
METHOD:PUBLISH
X-PUBLISHED-TTL:PT1H
BEGIN:VEVENT
UID:5889@lapunta.org
SUMMARY:Presidio in Ricordo della Strage Esselunga Via Mariti
DTSTAMP:20260424T081035Z
DTSTART:20260216T170000Z
DTEND:20260216T190000Z
DESCRIPTION:A due anni dalla strage nel cantiere Esselunga\, torniamo in vi
	a Mariti per\nricordare chi ha perso la vita sul lavoro e per ribadire che
	 non si è trattato\ndi una fatalità.\n\nNon è stata una tragica coincidenz
	a.\n\nLa responsabilità è del sistema che pone il profitto davanti alla si
	curezza\, la\nproduttività davanti alla tutela della salute e della sicure
	zza nei luoghi di\nlavoro\, il risparmio sui costi del lavoro davanti alla
	 vita delle lavoratrici e\ndei lavoratori.\n\nSaremo in presidio per fare 
	memoria e continuare a lottare.\n\nSaremo in presidio per chiedere verità 
	e giustizia.\n\nSaremo in presidio per dire basta alle morti sul lavoro.\n
	\nVia Mariti è il simbolo di una città e di un Paese in cui nei cantieri\,
	 nei\nmagazzini\, nelle fabbriche si continua a morire mentre si parla di 
	crescita e\nsviluppo. Uno sviluppo marchiato dall'economia di guerra che c
	olpisce\nlavoratrici\, lavoratori\, studenti e l'intera cittadinanza.\n\nI
	nvitiamo cittadine e cittadini\, lavoratrici e lavoratori\, realtà sociali
	 e\nsindacali a partecipare.\n\nLunedì 16 febbraio ore 18:00 via Mariti\, 
	Firenze.\n\nPer aderire\, lascia un commento.\n\nPrime adesioni:\n\nUSB Fi
	renze\n\nConfederazione Cobas Firenze\n\nCUB Firenze
URL:https://lapunta.org/event/presidio-in-ricordo-della-strage-esselumga-vi
	a-mvia-riti
LOCATION:Cantiere Esselunga via Mariti - Via Mariti\, area ex Panificio Mil
	itare. Firenze
STATUS:CONFIRMED
CATEGORIES:
X-ALT-DESC;FMTTYPE=text/html:<p>A due anni dalla strage nel cantiere Esselu
	nga, torniamo in via Mariti per ricordare chi ha perso la vita sul lavoro 
	e per ribadire che non si è trattato di una fatalità.</p><p>Non è stata un
	a tragica coincidenza.</p><p>La responsabilità è del sistema che pone il p
	rofitto davanti alla sicurezza, la produttività davanti alla tutela della 
	salute e della sicurezza nei luoghi di lavoro, il risparmio sui costi del 
	lavoro davanti alla vita delle lavoratrici e dei lavoratori.</p><p>Saremo 
	in presidio per fare memoria e continuare a lottare.</p><p>Saremo in presi
	dio per chiedere verità e giustizia.</p><p>Saremo in presidio per dire bas
	ta alle morti sul lavoro.</p><p>Via Mariti è il simbolo di una città e di 
	un Paese in cui nei cantieri, nei magazzini, nelle fabbriche si continua a
	 morire mentre si parla di crescita e sviluppo. Uno sviluppo marchiato dal
	l'economia di guerra che colpisce lavoratrici, lavoratori, studenti e l'in
	tera cittadinanza.</p><p>Invitiamo cittadine e cittadini, lavoratrici e la
	voratori, realtà sociali e sindacali a partecipare.</p><p>Lunedì 16 febbra
	io ore 18:00 via Mariti, Firenze.</p><p>Per aderire, lascia un commento.</
	p><p>Prime adesioni:</p><p>USB Firenze</p><p>Confederazione Cobas Firenze<
	/p><p>CUB Firenze</p>
END:VEVENT
BEGIN:VEVENT
UID:4835@lapunta.org
SUMMARY:Primo Maggio a Firenze
DTSTAMP:20260424T081035Z
DTSTART:20250501T123000Z
DTEND:20250501T193000Z
URL:https://lapunta.org/event/primo-maggio-a-firenze
LOCATION:Cantiere Esselunga via Mariti - Via Mariti\, area ex Panificio Mil
	itare. Firenze
STATUS:CONFIRMED
CATEGORIES:
END:VEVENT
BEGIN:VEVENT
UID:4556@lapunta.org
SUMMARY:Un anno dalla strage di via Mariti
DTSTAMP:20260424T081035Z
DTSTART:20250216T150000Z
DESCRIPTION:16 FEBBRAIO 2024 - 16 FEBBRAIO 2025\n\n\nUn anno dalla strage d
	i via Mariti\n\nUn anno senza giustizia per i cinque operai uccisi dal pes
	o del profitto a tutti\ncosti\n\nUn anno di estenuante convivenza con l'ec
	omostro della morte per il quartiere.\nNel vergognoso e totale silenzio de
	lle istituzioni e degli organi competenti\, il\nquartiere e la città chied
	ono a gran voce:\n\nGiustizia per le vittime e le loro famiglie!\n\nChe gl
	i organi competenti si facciano carico di interpellare la prefettura per\n
	informare gli abitanti del quartiere sugli sviluppi dell'inchiesta e sul f
	uturo\nche li attende.\n\nChe l'amministrazione\, finora silente\, si facc
	ia carico di interloquire con il\ncommittente Esselunga facendo tutti gli 
	sforzi necessari affinché venga rivisto\nin toto il progetto dell'inutile\
	, ennesimo grande centro commerciale in\nquell'area una volta di demanio p
	ubblico e poi svenduta al privato di turno\, per\nil profitto di pochi a d
	anno della collettività.\n\nE che vengano quindi messi in moto tutti i mec
	canismi necessari atti ad avviare\nun processo di riqualificazione vincola
	to allo smaltimento dell'ecomostro della\nmorte e alla totale bonifica del
	l'area\, facendo tutti gli sforzi necessari\naffinché quell'area venga des
	tinata a un parco pubblico intitolato alle vittime\ndel lavoro e del profi
	tto\, e che doni verde e aria pulita a un quartiere ormai\nattanagliato da
	 una sempre più asfissiante cementificazione.\n\nDomenica 16 febbraio\nLa 
	città alza la voce!\n\nConcentramento alle ore 16 di fronte al cantiere di
	 via Mariti
URL:https://lapunta.org/event/un-anno-dalla-strage-di-via-mariti
LOCATION:Cantiere Esselunga via Mariti - Via Mariti\, area ex Panificio Mil
	itare. Firenze
STATUS:CONFIRMED
CATEGORIES:16 febbraio,Firenze,consumo di suolo,esselunga,facciamoci un par
	co,strage,via Mariti
X-ALT-DESC;FMTTYPE=text/html:<h3>16 febbraio 2024 - 16 febbraio 2025</h3><p
	><br>Un anno dalla strage di via Mariti<br><br>Un anno senza giustizia per
	 i cinque operai uccisi dal peso del profitto a tutti costi<br><br>Un anno
	 di estenuante convivenza con l'ecomostro della morte per il quartiere.<br
	>Nel vergognoso e totale silenzio delle istituzioni e degli organi compete
	nti, il quartiere e la città chiedono a gran voce: <br><br>Giustizia per l
	e vittime e le loro famiglie!<br><br>Che gli organi competenti si facciano
	 carico di interpellare la prefettura per informare gli abitanti del quart
	iere sugli sviluppi dell'inchiesta e sul futuro che li attende.<br><br>Che
	 l'amministrazione, finora silente, si faccia carico di interloquire con i
	l committente Esselunga facendo tutti gli sforzi necessari affinché venga 
	rivisto in toto il progetto dell'inutile, ennesimo grande centro commercia
	le in quell'area una volta di demanio pubblico e poi svenduta al privato d
	i turno, per il profitto di pochi a danno della collettività.<br><br>E che
	 vengano quindi messi in moto tutti i meccanismi necessari atti ad avviare
	 un processo di riqualificazione vincolato allo smaltimento dell'ecomostro
	 della morte e alla totale bonifica dell'area, facendo tutti gli sforzi ne
	cessari affinché quell'area venga destinata a un parco pubblico intitolato
	 alle vittime del lavoro e del profitto, e che doni verde e aria pulita a 
	un quartiere ormai attanagliato da una sempre più asfissiante cementificaz
	ione.<br><br><strong>Domenica 16 febbraio<br>La città alza la voce!</stron
	g><br><br><strong>Concentramento alle ore 16 di fronte al cantiere di via 
	Mariti</strong></p>
END:VEVENT
BEGIN:VEVENT
UID:3591@lapunta.org
SUMMARY:A un mese dalla strage\, il quartiere non dimentica
DTSTAMP:20260424T081035Z
DTSTART:20240316T140000Z
DESCRIPTION:A un mese dalla strage operaia di via Mariti ci ritroveremo all
	e ore 15.00\ndavanti al cantiere ex-Esselunga\, per dire che il quartiere 
	non ha dimenticato.\n\nDurante la giornata avrà luogo la conferenza stampa
	 di lancio della raccolta\nfirme per la costruzione di un parco pubblico a
	l posto del centro commerciale e\nper presentare al quartiere e alla città
	 il corteo indetto per sabato 23 marzo.\n\nInoltre ci sarà microfono apert
	o per tutt3 coloro che vorranno intervenire e\nportare il proprio contribu
	to.\n\nFacciamoci un parco!
URL:https://lapunta.org/event/a-un-mese-dalla-strage-il-quartiere-non-dimen
	tica
LOCATION:Cantiere Esselunga via Mariti - Via Mariti\, area ex Panificio Mil
	itare. Firenze
STATUS:CONFIRMED
CATEGORIES:16 febbraio,Rifredi,cantiere esselunga,facciamoci un parco,presi
	dio,rifredi
X-ALT-DESC;FMTTYPE=text/html:<p>A un mese dalla strage operaia di via Marit
	i ci ritroveremo alle ore 15.00 davanti al cantiere ex-Esselunga, per dire
	 che il quartiere non ha dimenticato.</p><p>Durante la giornata avrà luogo
	 la conferenza stampa di lancio della raccolta firme per la costruzione di
	 un parco pubblico al posto del centro commerciale e per presentare al qua
	rtiere e alla città il corteo indetto per sabato 23 marzo.</p><p>Inoltre c
	i sarà microfono aperto per tutt3 coloro che vorranno intervenire e portar
	e il proprio contributo.</p><p>Facciamoci un parco!</p>
END:VEVENT
END:VCALENDAR
